Workbook
Name chuong_pl_82: '54'!$B$1
Name chuong_pl_82_name: '54'!$A$3
Name chuong_pl_82_name_name: '54'!$A$4
Name chuong_pl_83: '55'!$B$1
Name chuong_pl_83_name: '55'!$A$3
Name chuong_pl_83_name_name: '55'!$A$4
Name chuong_pl_84: '56.1'!$B$1
Name chuong_pl_84_name: '56.1'!$A$3
Name chuong_pl_84_name_name: '56.1'!$A$4
Name chuong_pl_85: '56.2'!$A$3
Name chuong_pl_85_name: '56.2'!$A$4
Name chuong_pl_86: '56.3'!$B$1
Name chuong_pl_86_name: '56.3'!$A$3
Name chuong_pl_86_name_name: '56.3'!$A$4

Sheet 54
A1: UBND XÃ KON ĐÀO | F1: Mẫu biểu số 54
A3: TÌNH HÌNH CÂN ĐỐI NSĐP 09 THÁNG NĂM 2026
A4: (Kèm theo Báo cáo số 600/BC-UBND ngày 15 /10/2026 của UBND xã Kon Đào)
E6: Đơn vị: Triệu đồng
A7: STT | B7: Nội dung | C7: Dự toán | D7: Thực hiện | F7: 09 tháng so (%)
D8: 09 tháng | E8: Lũy kế đến tháng 09 | F8: Dự toán | G8: Cùng kỳ năm trước
A9: A | B9: B | C9: 1 | D9: 2 | E9: 3 | F9: 4=3/1 | G9: 5
A10: A | B10: TỔNG THU NSNN TRÊN ĐỊA BÀN | C10: =C11 -> 3295 | D10: =D11 -> 2795.5045 | E10: =E11 -> 2795.5045 | F10: =IFERROR(E10/C10*100,0) -> 84.840804
A11: I | B11: Thu nội địa | C11: 3295 | D11: 2795.5045 | E11: =D11 -> 2795.5045 | F11: =IFERROR(E11/C11*100,0) -> 84.840804
A12: II | B12: Thu từ dầu thô | F12: =IFERROR(E12/C12*100,0) -> 0
A13: III | B13: Thu từ hoạt động xuất nhập khẩu | F13: =IFERROR(E13/C13*100,0) -> 0
A14: IV | B14: Thu viện trợ | F14: =IFERROR(E14/C14*100,0) -> 0
A15: B | B15: TỔNG THU NGÂN SÁCH ĐỊA PHƯƠNG | C15: =C16+C20+C23+C24+C25 -> 219332.92 | D15: =D16+D20+D23+D24+D25 -> 223396.71 | E15: =E16+E20+E23+E24+E25 -> 223396.71 | F15: =IFERROR(E15/C15*100,0) -> 101.8528
A16: I | B16: Thu NSĐP được hưởng theo phân cấp | C16: =C17+C18+C19 -> 3239 | D16: =D17+D19 -> 2795.5045 | E16: =E17+E19 -> 2795.5045 | F16: =IFERROR(E16/C16*100,0) -> 86.307641
A17: 1 | B17: Các khoản thu NSĐP hưởng 100% | C17: 1475 | D17: 51.708298 | E17: =+D17 -> 51.708298 | F17: =IFERROR(E17/C17*100,0) -> 3.5056473
A18: 2 | B18: Thuế giá trị gia tăng (phần NSĐP hưởng 30%) | C18: 0 | F18: =IFERROR(E18/C18*100,0) -> 0
A19: 3 | B19: Các khoản thu phân chia NSĐP theo tỷ lệ % | C19: 1764 | D19: 2743.7962 | E19: =+D19 -> 2743.7962 | F19: =IFERROR(E19/C19*100,0) -> 155.544
A20: II | B20: Thu bổ sung từ ngân sách cấp trên | C20: =C21+C22 -> 216093.92 | D20: =D21+D22 -> 177104.01 | E20: =E21+E22 -> 177104.01 | F20: =IFERROR(E20/C20*100,0) -> 81.956963
A21: 1 | B21: Thu bổ sung cân đối ngân sách | C21: 122817 | D21: 94962.75 | E21: =+D21 -> 94962.75 | F21: =IFERROR(E21/C21*100,0) -> 77.320526
A22: 2 | B22: Thu bổ sung có mục tiêu | C22: 93276.921 | D22: 82141.264 | E22: =+D22 -> 82141.264 | F22: =IFERROR(E22/C22*100,0) -> 88.061724
A23: III | B23: Thu từ quỹ dự trữ tài chính | F23: =IFERROR(E23/C23*100,0) -> 0
A24: IV | B24: Thu kết dư | D24: 3931.7635 | E24: =D24 -> 3931.7635 | F24: =IFERROR(E24/C24*100,0) -> 0
A25: V | B25: Thu chuyển nguồn từ năm trước chuyển sang | D25: 39565.432 | E25: =+D25 -> 39565.432 | F25: =IFERROR(E25/C25*100,0) -> 0
A26: C | B26: TỔNG CHI NSĐP | C26: =C27+C36 -> 211657.57 | D26: =D27+D36 -> 143462.77 | E26: =E27+E36 -> 157030.86 | F26: =IFERROR(E26/C26*100,0) -> 74.190995
A27: I | B27: Chi cân đối ngân sách địa phương | C27: =SUM(C28:C35) -> 161514.57 | D27: =SUM(D28:D35) -> 118154.72 | E27: =SUM(E28:E35) -> 118154.72 | F27: =IFERROR(E27/C27*100,0) -> 73.154221
A28: 1 | B28: Chi đầu tư phát triển | C28: 4571.8081 | D28: 4316.8081 | E28: =+D28 -> 4316.8081 | F28: =IFERROR(E28/C28*100,0) -> 94.422338
A29: 2 | B29: Chi thường xuyên | C29: 154421.76 | D29: 113492.87 | E29: =+D29 -> 113492.87 | F29: =IFERROR(E29/C29*100,0) -> 73.495386
A30: 3 | B30: Chi cho vay | E30: =D30 -> 0 | F30: =IFERROR(E30/C30*100,0) -> 0
A31: 4 | B31: Chi viện trợ | E31: =D31 -> 0 | F31: =IFERROR(E31/C31*100,0) -> 0
A32: 5 | B32: Chi trả nợ lãi | E32: =D32 -> 0 | F32: =IFERROR(E32/C32*100,0) -> 0
A33: 6 | B33: Chi bổ sung quỹ dự trữ tài chính | E33: =D33 -> 0 | F33: =IFERROR(E33/C33*100,0) -> 0
A34: 7 | B34: Dự phòng NSNN | C34: ='56.2'!C12 -> 2521 | D34: 345.0478 | E34: =D34 -> 345.0478 | F34: =IFERROR(E34/C34*100,0) -> 13.686942
A35: 8 | B35: Các nhiệm vụ chi khác | E35: =D35 -> 0 | F35: =IFERROR(E35/C35*100,0) -> 0
A36: II | B36: Chi từ nguồn bổ sung có mục tiêu từ NS cấp trên | C36: 50143 | D36: 25308.042 | E36: 38876.132 | F36: =IFERROR(E36/C36*100,0) -> 77.530527
A37: III | B37: Chi chuyển nguồn sang năm sau | F37: =IFERROR(E37/C37*100,0) -> 0

Sheet 55
A1: ='54'!A1:B1 -> UBND XÃ KON ĐÀO | F1: Mẫu biểu số 55
A3: THỰC HIỆN THU NSNN 09 THÁNG NĂM 2026
A4: ='54'!chuong_pl_82_name_name -> (Kèm theo Báo cáo số 600/BC-UBND ngày 15 /10/2026 của UBND xã Kon Đào)
F6: Đơn vị: Triệu đồng
A7: STT | B7: Nội dung | C7: Dự toán | D7: Thực hiện | F7: 09 tháng so (%)
D8: 09 tháng | E8: Lũy kế đến tháng 9 | F8: Dự toán | G8: Cùng kỳ năm trước
A9: A | B9: B | C9: 1 | D9: 2 | E9: 3 | F9: 4 | G9: 5
A10: A | B10: TỔNG THU NSNN TRÊN ĐỊA BÀN | C10: =C11 -> 3295 | D10: =D11 -> 2795.5045 | E10: =E11 -> 2795.5045 | F10: =IFERROR(E10/C10*100,0) -> 84.840804
A11: I | B11: Thu nội địa | C11: =SUM(C12:C17)+C19+C28+C33 -> 3295 | D11: =+D12+D13+D14+D15+D16+D17+D19+D25+D26+D27+D28+D29+D32+D33 -> 2795.5045 | E11: =+E12+E13+E14+E15+E16+E17+E19+E25+E26+E27+E28+E29+E32+E33 -> 2795.5045 | F11: =IFERROR(E11/C11*100,0) -> 84.840804
A12: 1 | B12: Thu từ khu vực doanh nghiệp nhà nước | C12: 0 | F12: =IFERROR(E12/C12*100,0) -> 0
A13: 2 | B13: Thu từ khu vực doanh nghiệp có vốn ĐTNN | F13: =IFERROR(E13/C13*100,0) -> 0
A14: 3 | B14: Thu từ khu vực kinh tế ngoài quốc doanh | C14: 1150 | D14: 1069.7342 | E14: =D14 -> 1069.7342 | F14: =IFERROR(E14/C14*100,0) -> 93.020363
A15: 4 | B15: Thuế thu nhập cá nhân | C15: 400 | D15: 349.01424 | E15: =D15 -> 349.01424 | F15: =IFERROR(E15/C15*100,0) -> 87.25356
A16: 5 | B16: Thuế bảo vệ môi trường | F16: =IFERROR(E16/C16*100,0) -> 0
A17: 6 | B17: Các loại phí, lệ phí | C17: 1350 | D17: 1185.3127 | E17: =D17 -> 1185.3127 | F17: =IFERROR(E17/C17*100,0) -> 87.800944
B18: Trđó: Lệ phí trước bạ | C18: 1250 | D18: 1142.3787 | E18: =D18 -> 1142.3787 | F18: =IFERROR(E18/C18*100,0) -> 91.390299
A19: 7 | B19: Các khoản thu về nhà, đất | C19: =SUM(C20:C24) -> 315 | D19: =SUM(D20:D24) -> 158.21566 | E19: =SUM(E20:E24) -> 158.21566 | F19: =IFERROR(E19/C19*100,0) -> 50.227194
A20: - | B20: Thuế sử dụng đất nông nghiệp | F20: =IFERROR(E20/C20*100,0) -> 0
A21: - | B21: Thuế sử dụng đất phi nông nghiệp | C21: 5 | D21: 8.774298 | E21: =D21 -> 8.774298 | F21: =IFERROR(E21/C21*100,0) -> 175.48596
A22: - | B22: Thu tiền cho thuê đất, thuê mặt nước | C22: 10 | D22: 54.654889 | E22: =D22 -> 54.654889 | F22: =IFERROR(E22/C22*100,0) -> 546.54889
A23: - | B23: Thu tiền sử dụng đất | C23: 300 | D23: 94.786475 | E23: =D23 -> 94.786475 | F23: =IFERROR(E23/C23*100,0) -> 31.595492
A24: - | B24: Thu tiền cho thuê và tiền bán nhà thuộc sở hữu NN | F24: =IFERROR(E24/C24*100,0) -> 0
A25: 8 | B25: Thu tiền sử dụng khu vực biển | F25: =IFERROR(E25/C25*100,0) -> 0
A26: 9 | B26: Thu từ khai thác, xử lý tài sản công xử lý theo quy định của pháp luật về quản lý, sử dụng tài sản công | F26: =IFERROR(E26/C26*100,0) -> 0
A27: 10 | B27: Thu từ hoạt động xổ số | F27: =IFERROR(E27/C27*100,0) -> 0
A28: 11 | B28: Thu tiền cấp quyền khai thác khoáng sản, tài nguyên nước, cấp quyền sử dụng tần số vô tuyến điện, thu tiền sử dụng khu vực biển | D28: 32.6277 | E28: =D28 -> 32.6277 | F28: =IFERROR(E28/C28*100,0) -> 0
A29: 12 | B29: Thu hồi vốn, thu cổ tức, lợi nhuận, lợi nhuận sau thuế, chênh lệch thu chi của Ngân hàng Nhà nước | F29: =IFERROR(E29/C29*100,0) -> 0
A30: - | B30: Thu hồi vốn NSNN đầu tư tại tổ chức kinh tế | F30: =IFERROR(E30/C30*100,0) -> 0
A31: - | B31: Thu cổ tức, lợi nhuận, lợi nhuận sau thuế, chênh lệch thu chi của Ngân hàng Nhà nước | F31: =IFERROR(E31/C31*100,0) -> 0
A32: 13 | B32: Thu quỹ đất công ích và hoa lợi công sản khác | F32: =IFERROR(E32/C32*100,0) -> 0
A33: 14 | B33: Thu khác ngân sách | C33: 80 | D33: 0.6 | E33: =D33 -> 0.6 | F33: =IFERROR(E33/C33*100,0) -> 0.75
A34: II | B34: Thu từ dầu thô | F34: =IFERROR(E34/C34*100,0) -> 0
A35: III | B35: Thu từ hoạt động xuất nhập khẩu | F35: =IFERROR(E35/C35*100,0) -> 0
A36: 1 | B36: Thuế GTGT thu từ hàng hóa nhập khẩu | F36: =IFERROR(E36/C36*100,0) -> 0
A37: 2 | B37: Thuế xuất khẩu | F37: =IFERROR(E37/C37*100,0) -> 0
A38: 3 | B38: Thuế nhập khẩu | F38: =IFERROR(E38/C38*100,0) -> 0
A39: 4 | B39: Thuế TTĐB thu từ hàng hóa nhập khẩu | F39: =IFERROR(E39/C39*100,0) -> 0
A40: 5 | B40: Thuế BVMT thu từ hàng hóa nhập khẩu | F40: =IFERROR(E40/C40*100,0) -> 0
A41: 6 | B41: Thuế bổ sung đối với hàng hóa nhập khẩu | F41: =IFERROR(E41/C41*100,0) -> 0
A42: 7 | B42: Thuế khác | F42: =IFERROR(E42/C42*100,0) -> 0
...

Sheet 56.1
A1: ='54'!A1:B1 -> UBND XÃ KON ĐÀO | F1: Mẫu biểu số 56.1
A3: THỰC HIỆN CHI NSNN 09 THÁNG NĂM 2026
A4: ='54'!chuong_pl_82_name_name -> (Kèm theo Báo cáo số 600/BC-UBND ngày 15 /10/2026 của UBND xã Kon Đào)
F6: Đơn vị: Triệu đồng
A7: STT | B7: Nội dung | C7: Dự toán giao đầu năm | D7: Thực hiện | F7: 09 tháng so (%)
D8: 09 tháng | E8: Lũy kế đến tháng 9 | F8: Dự toán | G8: Cùng kỳ năm trước
A9: A | B9: B | C9: 1 | D9: 2 | E9: 3 | F9: 4=3/1 | G9: 5
B10: TỔNG CHI NSĐP | C10: =C11+C26 -> 211657.57 | D10: =D11+D26 -> 157030.86 | E10: =E11+E26 -> 157030.86 | F10: =IFERROR(E10/C10*100,0) -> 74.190995
A11: A | B11: CHI CÂN ĐỐI NSĐP | C11: =C12+C16+C23 -> 161514.57 | D11: =D12+D16+D23 -> 118154.72 | E11: =E12+E16+E23 -> 118154.72 | F11: =IFERROR(E11/C11*100,0) -> 73.154221
A12: I | B12: Chi đầu tư phát triển | C12: =C13+C14 -> 4571.8081 | D12: =+D13+D14 -> 4316.8081 | E12: =+E13+E14 -> 4316.8081 | F12: =IFERROR(E12/C12*100,0) -> 94.422338
A13: 1 | B13: Chi đầu tư phát triển theo ngành, lĩnh vực | C13: 4571.8081 | D13: 4316.8081 | E13: =D13 -> 4316.8081 | F13: =IFERROR(E13/C13*100,0) -> 94.422338
A14: 2 | B14: Chi chương trình mục tiêu quốc gia | E14: =D14 -> 0 | F14: =IFERROR(E14/C14*100,0) -> 0
A15: II | B15: Chi trả nợ lãi | E15: =D15 -> 0 | F15: =IFERROR(E15/C15*100,0) -> 0
A16: III | B16: Chi thường xuyên | C16: 154421.76 | D16: ='54'!D29 -> 113492.87 | E16: =+D16 -> 113492.87 | F16: =IFERROR(E16/C16*100,0) -> 73.495386
B17: Trong đó: | E17: =D17 -> 0 | F17: =IFERROR(E17/C17*100,0) -> 0
B18: - Chi giáo dục, đào tạo và dạy nghề | C18: 98626.186 | D18: 76265.078 | E18: =+D18 -> 76265.078 | F18: =IFERROR(E18/C18*100,0) -> 77.327413
B19: - Chi khoa học, công nghệ, đổi mới sáng tạo và chuyển đổi số | C19: 0 | E19: =D19 -> 0 | F19: =IFERROR(E19/C19*100,0) -> 0
A20: IV | B20: Chi cho vay | E20: =D20 -> 0 | F20: =IFERROR(E20/C20*100,0) -> 0
A21: V | B21: Chi viện trợ | E21: =D21 -> 0 | F21: =IFERROR(E21/C21*100,0) -> 0
A22: VI | B22: Chi bổ sung quỹ dự trữ tài chính | E22: =D22 -> 0 | F22: =IFERROR(E22/C22*100,0) -> 0
A23: VII | B23: Dự phòng ngân sách nhà nước | C23: ='54'!C34 -> 2521 | D23: 345.0478 | E23: =D23 -> 345.0478 | F23: =IFERROR(E23/C23*100,0) -> 13.686942
A24: VIII | B24: Chi cải cách tiền lương, tinh giản biên chế | E24: =D24 -> 0 | F24: =IFERROR(E24/C24*100,0) -> 0
A25: IX | B25: Các nhiệm vụ chi khác | E25: =D25 -> 0 | F25: =IFERROR(E25/C25*100,0) -> 0
A26: B | B26: CHI TỪ NGUỒN BỔ SUNG CÓ MỤC TIÊU TỪ NS CẤP TRÊN CHO NSĐP | C26: =C27+C28+C29 -> 50143 | D26: =D27+D28+D29 -> 38876.132 | E26: =D26 -> 38876.132 | F26: =IFERROR(E26/C26*100,0) -> 77.530527
A27: 1 | B27: Chi đầu tư thực hiện các chương trình, nhiệm vụ, dự án | E27: =D27 -> 0 | F27: =IFERROR(E27/C27*100,0) -> 0
A28: 2 | B28: Chi thường xuyên thực hiện các chế độ, chính sách | C28: 49919 | D28: 38679.582 | E28: =D28 -> 38679.582 | F28: =IFERROR(E28/C28*100,0) -> 77.48469
A29: 3 | B29: Chi thực hiện các chương trình mục tiêu quốc gia | C29: 224 | D29: 196.55 | E29: =D29 -> 196.55 | F29: =IFERROR(E29/C29*100,0) -> 87.745536

Sheet 56.2
A1: ='54'!A1:B1 -> UBND XÃ KON ĐÀO | J1: Mẫu biểu số 56.2
A3: TÌNH HÌNH SỬ DỤNG DỰ PHÒNG NGÂN SÁCH ĐỊA PHƯƠNG, DỰ PHÒNG NGÂN SÁCH TRUNG ƯƠNG BỔ SUNG CÓ MỤC TIÊU CHO ĐỊA PHƯƠNG VÀ QUỸ DỰ TRỮ TÀI CHÍNH
A4: ='54'!A4:G4 -> (Kèm theo Báo cáo số 600/BC-UBND ngày 15 /10/2026 của UBND xã Kon Đào)
I6: Đơn vị: Triệu đồng
A7: STT | B7: Nội dung | C7: Dự phòng ngân sách địa phương | F7: Dự phòng ngân sách trung ương bổ sung có mục tiêu cho địa phương | I7: Quỹ dự trữ tài chính
C8: Dự toán HĐND quyết định | D8: Lũy kế đã sử dụng | E8: Còn lại | F8: Số NSTW bổ sung | G8: Số đã phân bổ | H8: Còn lại | I8: Số dư đầu năm | J8: Lũy kế đã sử dụng | K8: Còn lại
A9: A | B9: B | C9: 1 | D9: 2 | E9: 3=1-2 | F9: 4 | G9: 5 | H9: 6=4-5 | I9: 7 | J9: 8 | K9: 9=7-8
B10: Tổng số | C10: =C12 -> 2521 | D10: =D12 -> 345.0478 | E10: =C10-D10 -> 2175.9522 | F10: 0 | G10: 0 | H10: 0 | I10: 0 | J10: 0 | K10: 0
A11: 1 | B11: Chi đầu tư phát triển
A12: 2 | B12: Chi thường xuyên | C12: 2521 | D12: 345.0478 | E12: =C12-D12 -> 2175.9522

Sheet 56.3
A1: ='54'!A1:B1 -> UBND XÃ KON ĐÀO | D1: Mẫu biểu số 56.3
A3: KẾT QUẢ PHÂN BỔ SỬ DỤNG SỐ TĂNG THU SO VỚI DỰ TOÁN, DỰ TOÁN CHI CÒN LẠI
A4: ='54'!A4:G4 -> (Kèm theo Báo cáo số 600/BC-UBND ngày 15 /10/2026 của UBND xã Kon Đào)
D6: Đơn vị: Triệu đồng
A7: STT | B7: Nội dung | C7: Tổng số | D7: Trong đó | F7: Ghi chú
D8: Số tăng thu so với dự toán | E8: Dự toán chi còn lại
A9: A | B9: B | C9: 1=2+3 | D9: 2 | E9: 3
B10: Tổng số | C10: =SUM(C11:C16) -> 54.980697 | D10: =SUM(D11:D16) -> 54.980697 | E10: =SUM(E11:E16) -> 0
A11: 1 | B11: Giảm bội chi, tăng chi trả nợ | C11: =D11+E11 -> 0
A12: 2 | B12: Bổ sung tăng dự phòng ngân sách và quỹ dự trữ tài chính | C12: =D12+E12 -> 0
A13: 3 | B13: Bổ sung nguồn thực hiện chính sách tiền lương | C13: =D13+E13 -> 38.486488 | D13: 38.486488
A14: 4 | B14: Chi đầu tư một số dự án quan trọng | C14: =D14+E14 -> 0 | E14: 0
A15: 5 | B15: Thực hiện một số chính sách an sinh xã hội | C15: =D15+E15 -> 16.494209 | D15: 16.494209 | F15: Đã bố trí kinh phí tổ chức Chúc thọ, mừng thọ NCT năm 2026 cho Phòng Văn hóa-Xã hội tại Quyết định số 74/QĐ-UBND ngày 01/4/2026 của UBND xã Kon Đào số tiền 16,236 triệu đồng
A16: 6 | B16: Thưởng vượt dự toán thu hoặc hỗ trợ ngân sách cấp dưới hụt thu
